BEGIN:VCALENDAR
VERSION:2.0
PRODID:-// - ECPv6.15.13.1//NONSGML v1.0//EN
CALSCALE:GREGORIAN
METHOD:PUBLISH
X-ORIGINAL-URL:https://space4peace.org
X-WR-CALDESC:Events for 
REFRESH-INTERVAL;VALUE=DURATION:PT1H
X-Robots-Tag:noindex
X-PUBLISHED-TTL:PT1H
BEGIN:VTIMEZONE
TZID:America/New_York
BEGIN:DAYLIGHT
TZOFFSETFROM:-0500
TZOFFSETTO:-0400
TZNAME:EDT
DTSTART:20200308T070000
END:DAYLIGHT
BEGIN:STANDARD
TZOFFSETFROM:-0400
TZOFFSETTO:-0500
TZNAME:EST
DTSTART:20201101T060000
END:STANDARD
BEGIN:DAYLIGHT
TZOFFSETFROM:-0500
TZOFFSETTO:-0400
TZNAME:EDT
DTSTART:20210314T070000
END:DAYLIGHT
BEGIN:STANDARD
TZOFFSETFROM:-0400
TZOFFSETTO:-0500
TZNAME:EST
DTSTART:20211107T060000
END:STANDARD
BEGIN:DAYLIGHT
TZOFFSETFROM:-0500
TZOFFSETTO:-0400
TZNAME:EDT
DTSTART:20220313T070000
END:DAYLIGHT
BEGIN:STANDARD
TZOFFSETFROM:-0400
TZOFFSETTO:-0500
TZNAME:EST
DTSTART:20221106T060000
END:STANDARD
END:VTIMEZONE
BEGIN:VEVENT
DTSTART;TZID=America/New_York:20211003T130000
DTEND;TZID=America/New_York:20211003T143000
DTSTAMP:20260419T162918
CREATED:20210914T151424Z
LAST-MODIFIED:20210914T210647Z
UID:5107-1633266000-1633271400@space4peace.org
SUMMARY:Linking Militarized Space & Climate Crisis - Latest news from US & Europe
DESCRIPTION:Speakers: Stuart Parkinson (UK)\, Regina Hagen (Germany)\, Dieter Engels (German astronomer)\, Bruce Gagnon (Maine).\nTime of event is 1:00 pm (New York) or 6:00 pm (London).  \nZoom webinar link:\nhttps://us02web.zoom.us/j/88348424885?pwd=VFk3aE1mZUlpRnYvSit2NytIU1hFdz09 \nMeeting ID: 883 4842 4885\nPasscode: 726090
URL:https://space4peace.org/event/linking-militarized-space-climate-crisis-latest-news-from-us-europe/
CATEGORIES:Meetings,Upcoming
ATTACH;FMTTYPE=image/jpeg:https://space4peace.org/wp-content/uploads/2021/09/Space-new-wild-frontier.jpg
END:VEVENT
END:VCALENDAR