BEGIN:VCALENDAR
VERSION:2.0
PRODID:-// - ECPv6.15.13.1//NONSGML v1.0//EN
CALSCALE:GREGORIAN
METHOD:PUBLISH
X-ORIGINAL-URL:https://space4peace.org
X-WR-CALDESC:Events for 
REFRESH-INTERVAL;VALUE=DURATION:PT1H
X-Robots-Tag:noindex
X-PUBLISHED-TTL:PT1H
BEGIN:VTIMEZONE
TZID:Asia/Kolkata
BEGIN:STANDARD
TZOFFSETFROM:+0530
TZOFFSETTO:+0530
TZNAME:IST
DTSTART:20210101T000000
END:STANDARD
END:VTIMEZONE
BEGIN:VEVENT
DTSTART;TZID=Asia/Kolkata:20220129T093000
DTEND;TZID=Asia/Kolkata:20220129T163500
DTSTAMP:20260421T224641
CREATED:20220122T142547Z
LAST-MODIFIED:20220122T144545Z
UID:5981-1643448600-1643474100@space4peace.org
SUMMARY:Space Tourism Conference: Legal Dimensions
DESCRIPTION:Presented by The Centre for Aviation and Space Laws\, \nWBNUJS\, Kolkata \nWith:\nBruce Gagnon; Dave Webb; Karl Grossman; Sandeepa Bhat; G.S. Sachdeva; Jennifer A. Brobst; Martha Mejia-Kaiser; Melissa de Zwart and Ram S. Jakhu \nDownload conference brochure here: https://caslnujs.files.wordpress.com/2021/12/casl-space-tourism-conference-brochure-1.pdf \nJoin the conference here: https://meet.google.com/mfv-hinz-gkt
URL:https://space4peace.org/event/space-tourism-conference-legal-dimensions/
CATEGORIES:Meetings,Upcoming
ATTACH;FMTTYPE=image/jpeg:https://space4peace.org/wp-content/uploads/2022/01/space_tourism.jpg
END:VEVENT
END:VCALENDAR