BEGIN:VCALENDAR
VERSION:2.0
PRODID:-// - ECPv6.15.13.1//NONSGML v1.0//EN
CALSCALE:GREGORIAN
METHOD:PUBLISH
X-ORIGINAL-URL:https://space4peace.org
X-WR-CALDESC:Events for 
REFRESH-INTERVAL;VALUE=DURATION:PT1H
X-Robots-Tag:noindex
X-PUBLISHED-TTL:PT1H
BEGIN:VTIMEZONE
TZID:America/New_York
BEGIN:DAYLIGHT
TZOFFSETFROM:-0500
TZOFFSETTO:-0400
TZNAME:EDT
DTSTART:20200308T070000
END:DAYLIGHT
BEGIN:STANDARD
TZOFFSETFROM:-0400
TZOFFSETTO:-0500
TZNAME:EST
DTSTART:20201101T060000
END:STANDARD
BEGIN:DAYLIGHT
TZOFFSETFROM:-0500
TZOFFSETTO:-0400
TZNAME:EDT
DTSTART:20210314T070000
END:DAYLIGHT
BEGIN:STANDARD
TZOFFSETFROM:-0400
TZOFFSETTO:-0500
TZNAME:EST
DTSTART:20211107T060000
END:STANDARD
BEGIN:DAYLIGHT
TZOFFSETFROM:-0500
TZOFFSETTO:-0400
TZNAME:EDT
DTSTART:20220313T070000
END:DAYLIGHT
BEGIN:STANDARD
TZOFFSETFROM:-0400
TZOFFSETTO:-0500
TZNAME:EST
DTSTART:20221106T060000
END:STANDARD
END:VTIMEZONE
BEGIN:VTIMEZONE
TZID:America/Los_Angeles
BEGIN:DAYLIGHT
TZOFFSETFROM:-0800
TZOFFSETTO:-0700
TZNAME:PDT
DTSTART:20200308T100000
END:DAYLIGHT
BEGIN:STANDARD
TZOFFSETFROM:-0700
TZOFFSETTO:-0800
TZNAME:PST
DTSTART:20201101T090000
END:STANDARD
BEGIN:DAYLIGHT
TZOFFSETFROM:-0800
TZOFFSETTO:-0700
TZNAME:PDT
DTSTART:20210314T100000
END:DAYLIGHT
BEGIN:STANDARD
TZOFFSETFROM:-0700
TZOFFSETTO:-0800
TZNAME:PST
DTSTART:20211107T090000
END:STANDARD
BEGIN:DAYLIGHT
TZOFFSETFROM:-0800
TZOFFSETTO:-0700
TZNAME:PDT
DTSTART:20220313T100000
END:DAYLIGHT
BEGIN:STANDARD
TZOFFSETFROM:-0700
TZOFFSETTO:-0800
TZNAME:PST
DTSTART:20221106T090000
END:STANDARD
END:VTIMEZONE
BEGIN:VTIMEZONE
TZID:UTC
BEGIN:STANDARD
TZOFFSETFROM:+0000
TZOFFSETTO:+0000
TZNAME:UTC
DTSTART:20200101T000000
END:STANDARD
END:VTIMEZONE
BEGIN:VEVENT
DTSTART;TZID=America/New_York:20210321T130000
DTEND;TZID=America/New_York:20210321T190000
DTSTAMP:20260422T102808
CREATED:20210301T204724Z
LAST-MODIFIED:20210312T085751Z
UID:3696-1616331600-1616353200@space4peace.org
SUMMARY:The Cold War Truth Commission
DESCRIPTION:Witness For Peace Southwest Invites You To Join:\nA Day of Education\, Testimonials & Action\nCome Spend The Day While We Put: “THE COLD WAR ON TRIAL”\nSunday\, March 21st – 1:00 PM to 7:00 PM (PST)\nHere Are The Speakers We Have So Far:\nMedea Benjamin\, Kathy Kelly\, S. Brian Willson\, David Swanson\, Norman Solomon\, Peter Phillips\, Jeff Cohen\,\nAnn Wright\, Peter Kuznick\,  Roy Bourgeois\, Bruce Gagnon\, Joel Andreas\, Gerald Horne\, Matthew Hoh\,\nDavid Vine\, Mickey Huff\, Eric Mann\, Jodie Evans\, Gerry Condon\, Carl Boggs\, Jim Lafferty\, John Parker\,\nMarcy Winograd\, Jeremy Kuzmarov\, Alice Slater\, Michael Novick\, Carley Towne\, Ed Rampell & Others. \n\n\nPlease contact us if you are interested in co-organizing\, endorsing\,\nor in providing citizen testimonial at: sojournerrb@yahoo.com\n\n\n\nI think it’s a great idea! Ideologically\, it’s right on.”\n– Oliver Stone on The Cold War Truth Commission\nHosted by Rachel Bruhnke · sojournerrb@yahoo.com\nof Witness For Peace Southwest\n\nEndorsed by CODEPINK\, World BEYOND War\, RootsAction\,\nVeterans For Peace\, Peacemakers\, Covert Action\,\nGlobal Network Against Weapons & Nuclear Power In Space and ADDICTED To WAR\nRegister Here: www.codepink.org/03212021
URL:https://space4peace.org/event/the-cold-war-on-trial/
LOCATION:Webinar
CATEGORIES:Actions,Meetings,Upcoming
ATTACH;FMTTYPE=image/jpeg:https://space4peace.org/wp-content/uploads/2021/03/Cold-war-on-trial.jpg
END:VEVENT
BEGIN:VEVENT
DTSTART;TZID=America/Los_Angeles:20210319T100000
DTEND;TZID=America/Los_Angeles:20210319T140000
DTSTAMP:20260422T102808
CREATED:20210226T174138Z
LAST-MODIFIED:20210226T181408Z
UID:3676-1616148000-1616162400@space4peace.org
SUMMARY:SpaceX 5G Satellite Protest
DESCRIPTION:Satellites\, rockets\, and 5G on earth and in sky. \nWhat is the cost to health and the environment?\n5G SpaceX Satellite Protest \n\nJoin us and people around the world as we demand an immediate halt to 5G satellites & technology on earth & in space unless proven safe… as we call for safer and wiser technology options. \n\nUp to 100\,000 low earth orbit satellites\, complementary earth base stations & millions more cell antennas (aka User Terminals) have been approved by the FCC. SpaceX and other companies are now deploying satellites to provide 5G wireless internet to every corner of the globe\, blanketing the entire planet in wireless radiation with potentially devastating consequences to all of life. \n\nEnvironmental dangers abound. They include: \n \n\ndepletion of the ozone layer\ncyberattacks costing $ trillions\npollution from rocket launches (exhaust gases\, black carbon\, alumina\, toxic chemicals)\nspace debris & collisions – Kessler Effect\nvast increase in energy consumption\nclimate impacts from manufacturing & disposal of all connected “things” & infrastructure\ninterference with the global electrical circuit\npotential disruption to satellites & connected IoT networks from solar flares\neffects on navigation & survival of wildlife\nfurther militarization of space\n\n1 Rocket Road\, Hawthorne\, California\nParking limited—Uber or bus recommended
URL:https://space4peace.org/event/spacex-5g-satellite-protest/
LOCATION:Hawthorne\, California\, 1 Rocket Road\, Hawthorne\, CA\, United States
CATEGORIES:Actions,Upcoming
ATTACH;FMTTYPE=image/jpeg:https://space4peace.org/wp-content/uploads/2021/02/5g_protest.jpg
END:VEVENT
BEGIN:VEVENT
DTSTART;TZID=UTC:20210317T120000
DTEND;TZID=UTC:20210317T130000
DTSTAMP:20260422T102808
CREATED:20210225T092615Z
LAST-MODIFIED:20210225T093231Z
UID:3646-1615982400-1615986000@space4peace.org
SUMMARY:The Space Force: who cares about an arms race in space?
DESCRIPTION:Zoominar – register here.
URL:https://space4peace.org/event/3646/
CATEGORIES:Meetings,Upcoming
ATTACH;FMTTYPE=image/jpeg:https://space4peace.org/wp-content/uploads/2021/02/The-Space-Force.jpg
END:VEVENT
BEGIN:VEVENT
DTSTART;TZID=UTC:20210130T103000
DTEND;TZID=UTC:20210130T160000
DTSTAMP:20260422T102808
CREATED:20210108T114353Z
LAST-MODIFIED:20210206T160208Z
UID:32-1612002600-1612022400@space4peace.org
SUMMARY:Waihopi Spy Base Protest
DESCRIPTION:Here is Anti-Bases Campaign’s programme for Saturday January 30th. \n  \nThe protest will start at 10.30 a.m. at the spy base outer gate\, Waihopai Valley Road. There will be speakers\, including new Green MP Teanau Tuiono \n  \nAfter that\, we’re going to the Nativity Church\, 76 Alfred Street\, in central Blenheim. We will be in the lounge. \nThere will be three speakers. \nAt 1 p.m. freelance investigative journalist Ollie Neas will speak about Rocket Lab\, the American company which operates an NZ launch pad for US military and spy agency satellites. It is\, effectively\, a US base on NZ soil. Ollie has written extensively about Rocket Lab\, on investigative NZ sites like The Spinoff. \nAt 2 p.m. world renowned investigative journalist and writer Nicky Hager will speak about: “What Is Five Eyes Today? An Update”. \nAt 3 p.m new Green MP Teanau Tuiono will speak on how to get Waihopai/Five Eyes/defence & foreign policy back onto the political agenda \nWe also plan to screen some extracts from the recently updated documentary “Islands Of The Empire”\, the definitive study of the NZ/US military and inteliigence relationship. \nPlease join us at Waihopai and/or in Blenheim on January 30th. You are welcome to join us for lunch at the Nativity Church (from 12-12.30) but please e-mail us at abc@chch.planet.org.nz in advance\, so that we know numbers for catering. \nFurther details are below\, including our bank account. The afternoon meeting in Blenheim is free but ABC welcomes donations towards the cost of the campaign to close Waihopai. \nMurray Horton \nSecretary/Organiser \nAnti-Bases Campaign \nBox 2258\, Christchurch 8140\, New Zealand \nabc@chch.planet.org.nz \nhttp://www.converge.org.nz/abcc \nwww.facebook.com/AotearoaABC
URL:https://space4peace.org/event/waihopi-spy-base-protest/
CATEGORIES:Actions
END:VEVENT
END:VCALENDAR