BEGIN:VCALENDAR
VERSION:2.0
PRODID:-// - ECPv6.15.13.1//NONSGML v1.0//EN
CALSCALE:GREGORIAN
METHOD:PUBLISH
X-ORIGINAL-URL:https://space4peace.org
X-WR-CALDESC:Events for 
REFRESH-INTERVAL;VALUE=DURATION:PT1H
X-Robots-Tag:noindex
X-PUBLISHED-TTL:PT1H
BEGIN:VTIMEZONE
TZID:UTC
BEGIN:STANDARD
TZOFFSETFROM:+0000
TZOFFSETTO:+0000
TZNAME:UTC
DTSTART:20230101T000000
END:STANDARD
END:VTIMEZONE
BEGIN:VEVENT
DTSTART;VALUE=DATE:20240913
DTEND;VALUE=DATE:20240915
DTSTAMP:20260419T195803
CREATED:20240828T084411Z
LAST-MODIFIED:20240828T084411Z
UID:11127-1726185600-1726358399@space4peace.org
SUMMARY:'No Radar' Protest at DARC Exhibitions in Wales
DESCRIPTION:If you can\, join the PARC against DARC protests against the proposed U.S. Space Force Deeps Space Advanced Radar Capability (DARC) in Pembrokeshire\, Wales. \nMore information from the website – Pembrokeshire Against DARC Radar (parcagainstdarc.com) \n 
URL:https://space4peace.org/event/no-radar-protest-at-darc-exhibitions-in-wales/
CATEGORIES:Actions,Meetings
ATTACH;FMTTYPE=image/webp:https://space4peace.org/wp-content/uploads/2024/08/PARC-protests-sm.webp
ORGANIZER;CN="PARC Against DARC":MAILTO:theteam@parcagainstdarc.com
END:VEVENT
END:VCALENDAR