BEGIN:VCALENDAR
VERSION:2.0
PRODID:-// - ECPv6.15.13.1//NONSGML v1.0//EN
CALSCALE:GREGORIAN
METHOD:PUBLISH
X-ORIGINAL-URL:https://space4peace.org
X-WR-CALDESC:Events for 
REFRESH-INTERVAL;VALUE=DURATION:PT1H
X-Robots-Tag:noindex
X-PUBLISHED-TTL:PT1H
BEGIN:VTIMEZONE
TZID:UTC
BEGIN:STANDARD
TZOFFSETFROM:+0000
TZOFFSETTO:+0000
TZNAME:UTC
DTSTART:20230101T000000
END:STANDARD
END:VTIMEZONE
BEGIN:VEVENT
DTSTART;TZID=UTC:20241005T000000
DTEND;TZID=UTC:20241012T233000
DTSTAMP:20260421T232023
CREATED:20240728T151804Z
LAST-MODIFIED:20241005T083627Z
UID:10941-1728086400-1728775800@space4peace.org
SUMMARY:Keep Space for Peace Week October 5-12 2024
DESCRIPTION:Each October the Global Network organizes Keep Space for Peace Week and asks folks around the world to help us concentrate public attention during that time on the dangerous and aggressive moves the US-NATO are making to nuclearize\, militarize and weaponize space. \nWe hope this October 5-12 you can find some way to help us in that goal to expand public consciousness about the absolute imperative to keep space for peace. \nA growing list of planned events can be seen here\, get in touch with details of any event you are organising.
URL:https://space4peace.org/event/keep-space-for-peace-week-october-5-12-2024/
CATEGORIES:Actions
ATTACH;FMTTYPE=image/jpeg:https://space4peace.org/wp-content/uploads/2023/11/Scotland_protest_1.jpg
END:VEVENT
END:VCALENDAR