BEGIN:VCALENDAR
VERSION:2.0
PRODID:-// - ECPv6.15.20//NONSGML v1.0//EN
CALSCALE:GREGORIAN
METHOD:PUBLISH
X-ORIGINAL-URL:https://space4peace.org
X-WR-CALDESC:Events for 
REFRESH-INTERVAL;VALUE=DURATION:PT1H
X-Robots-Tag:noindex
X-PUBLISHED-TTL:PT1H
BEGIN:VTIMEZONE
TZID:UTC
BEGIN:STANDARD
TZOFFSETFROM:+0000
TZOFFSETTO:+0000
TZNAME:UTC
DTSTART:20220101T000000
END:STANDARD
END:VTIMEZONE
BEGIN:VEVENT
DTSTART;VALUE=DATE:20231007
DTEND;VALUE=DATE:20231015
DTSTAMP:20260424T222849
CREATED:20230907T131648Z
LAST-MODIFIED:20230907T131648Z
UID:8917-1696636800-1697327999@space4peace.org
SUMMARY:Keep Space for Peace Week - The Dangers of Crowded Orbits
DESCRIPTION:Lower Earth orbit (LEO) is becoming dangerously crowded and NASA scientists fear growing space debris and likely cascading collisions in orbit. This\, called the Kessler Syndrome\, would endanger space activities and the use of satellites which so much technology relies on to function.\nThe Global Network is involved in a legal action to pressure the Federal Communications Commission (FCC) to follow the law and conduct environmental impact studies before approving the launching of satellites into space. In 1985-88 there were about 5000-6000 objects in orbit. Currently there are roughly 27\,000 human-made objects in space\nElon Musk’s Space X has launched 12\,000 satellites and various companies are now planning some 71\,000 more. The US is moving quickly to grab as many remaining LEO parking spaces as possible\, thereby preventing other nations from deploying satellites.\nCould the FCC be ignoring the law for monitoring environmental impacts because Congress and the Pentagon want to remove all impediments to US military domination of LEO?\nThe emblem of the Space Force\, Semper Supra\, Latin for always above\, shows
URL:https://space4peace.org/event/keep-space-for-peace-week-the-dangers-of-crowded-orbits/
CATEGORIES:Actions,Upcoming
ATTACH;FMTTYPE=image/jpeg:https://space4peace.org/wp-content/uploads/2023/09/KSfPW_inage.jpg
END:VEVENT
END:VCALENDAR