BEGIN:VCALENDAR
VERSION:2.0
PRODID:-// - ECPv6.15.20//NONSGML v1.0//EN
CALSCALE:GREGORIAN
METHOD:PUBLISH
X-ORIGINAL-URL:https://space4peace.org
X-WR-CALDESC:Events for 
REFRESH-INTERVAL;VALUE=DURATION:PT1H
X-Robots-Tag:noindex
X-PUBLISHED-TTL:PT1H
BEGIN:VTIMEZONE
TZID:UTC
BEGIN:STANDARD
TZOFFSETFROM:+0000
TZOFFSETTO:+0000
TZNAME:UTC
DTSTART:20220101T000000
END:STANDARD
END:VTIMEZONE
BEGIN:VTIMEZONE
TZID:Asia/Krasnoyarsk
BEGIN:STANDARD
TZOFFSETFROM:+0700
TZOFFSETTO:+0700
TZNAME:+07
DTSTART:20220101T000000
END:STANDARD
END:VTIMEZONE
BEGIN:VTIMEZONE
TZID:America/New_York
BEGIN:DAYLIGHT
TZOFFSETFROM:-0500
TZOFFSETTO:-0400
TZNAME:EDT
DTSTART:20220313T070000
END:DAYLIGHT
BEGIN:STANDARD
TZOFFSETFROM:-0400
TZOFFSETTO:-0500
TZNAME:EST
DTSTART:20221106T060000
END:STANDARD
BEGIN:DAYLIGHT
TZOFFSETFROM:-0500
TZOFFSETTO:-0400
TZNAME:EDT
DTSTART:20230312T070000
END:DAYLIGHT
BEGIN:STANDARD
TZOFFSETFROM:-0400
TZOFFSETTO:-0500
TZNAME:EST
DTSTART:20231105T060000
END:STANDARD
BEGIN:DAYLIGHT
TZOFFSETFROM:-0500
TZOFFSETTO:-0400
TZNAME:EDT
DTSTART:20240310T070000
END:DAYLIGHT
BEGIN:STANDARD
TZOFFSETFROM:-0400
TZOFFSETTO:-0500
TZNAME:EST
DTSTART:20241103T060000
END:STANDARD
END:VTIMEZONE
BEGIN:VEVENT
DTSTART;VALUE=DATE:20231007
DTEND;VALUE=DATE:20231015
DTSTAMP:20260424T222621
CREATED:20230907T131648Z
LAST-MODIFIED:20230907T131648Z
UID:8917-1696636800-1697327999@space4peace.org
SUMMARY:Keep Space for Peace Week - The Dangers of Crowded Orbits
DESCRIPTION:Lower Earth orbit (LEO) is becoming dangerously crowded and NASA scientists fear growing space debris and likely cascading collisions in orbit. This\, called the Kessler Syndrome\, would endanger space activities and the use of satellites which so much technology relies on to function.\nThe Global Network is involved in a legal action to pressure the Federal Communications Commission (FCC) to follow the law and conduct environmental impact studies before approving the launching of satellites into space. In 1985-88 there were about 5000-6000 objects in orbit. Currently there are roughly 27\,000 human-made objects in space\nElon Musk’s Space X has launched 12\,000 satellites and various companies are now planning some 71\,000 more. The US is moving quickly to grab as many remaining LEO parking spaces as possible\, thereby preventing other nations from deploying satellites.\nCould the FCC be ignoring the law for monitoring environmental impacts because Congress and the Pentagon want to remove all impediments to US military domination of LEO?\nThe emblem of the Space Force\, Semper Supra\, Latin for always above\, shows
URL:https://space4peace.org/event/keep-space-for-peace-week-the-dangers-of-crowded-orbits/
CATEGORIES:Actions,Upcoming
ATTACH;FMTTYPE=image/jpeg:https://space4peace.org/wp-content/uploads/2023/09/KSfPW_inage.jpg
END:VEVENT
BEGIN:VEVENT
DTSTART;TZID=Asia/Krasnoyarsk:20231007T100000
DTEND;TZID=Asia/Krasnoyarsk:20231007T170000
DTSTAMP:20260424T222621
CREATED:20230924T085058Z
LAST-MODIFIED:20230924T085158Z
UID:9117-1696672800-1696698000@space4peace.org
SUMMARY:Keep Space for Peace Philippine Learning Session
DESCRIPTION:with Bruce Gagnon
URL:https://space4peace.org/event/9117/
CATEGORIES:Meetings
ATTACH;FMTTYPE=image/jpeg:https://space4peace.org/wp-content/uploads/2023/09/KSfPW_inage.jpg
ORGANIZER;CN="Philippine Initiative on Critical & Global Issues":MAILTO:corafabros@gmail.com
END:VEVENT
BEGIN:VEVENT
DTSTART;TZID=America/New_York:20231007T113000
DTEND;TZID=America/New_York:20231007T113000
DTSTAMP:20260424T222621
CREATED:20230907T155803Z
LAST-MODIFIED:20230907T155803Z
UID:8947-1696678200-1696678200@space4peace.org
SUMMARY:No weapons in space vigil
DESCRIPTION:No weapons in space vigil at Bath Iron Works in Maine. \nContact: globalnet@mindspring.com
URL:https://space4peace.org/event/no-weapons-in-space-vigil/
LOCATION:Bath Iron Works\, Maine\, United States
CATEGORIES:Actions
ATTACH;FMTTYPE=image/jpeg:https://space4peace.org/wp-content/uploads/2023/09/KSfPW_inage.jpg
END:VEVENT
BEGIN:VEVENT
DTSTART;TZID=UTC:20231007T120000
DTEND;TZID=UTC:20231007T150000
DTSTAMP:20260424T222621
CREATED:20230912T092854Z
LAST-MODIFIED:20230924T090436Z
UID:9009-1696680000-1696690800@space4peace.org
SUMMARY:Rally at Croughton USAF base
DESCRIPTION:Military Nerve Centre of the US War Machine in the UK\nElectronic surveillance and satellite communication spy base \nSaturday October 7th\, 12 to 3pm (UK time) \nSpeakers from 1pm:\nTOM UNTERRAINER – Chair of the Campaign for Nuclear Disarmament\nJOHN GITTINGS – former Foreign Affairs editor\, ‘The Guardian’\nPETER BURT – Drone Wars UK\nLINDIS PERCY – activist and founder of the Campaign for the Accountability of American Bases \nWe need to make this top-secret base more visible and answerable to the British people. ALready it has been key to satellite direction of wars of resources in the Middle East\, Africa and now Europe. The US’s own publication ‘Vision for 2020’ stated the aim of US Space Command as the total domination of Space and its resources.  \nThis rally is part of KEEP SPACE FOR PEACE WEEK.
URL:https://space4peace.org/event/rally-at-croughton-usaf-base/
LOCATION:USAF Croughton\, RAF Croughton\, Croughton\, Northamptonshire\, United Kingdom
ATTACH;FMTTYPE=image/jpeg:https://space4peace.org/wp-content/uploads/2023/09/KSfPW_inage.jpg
ORGANIZER;CN="Abingdon Peace Group":MAILTO:abingdonpeace@gmail.com
END:VEVENT
BEGIN:VEVENT
DTSTART;TZID=America/New_York:20231007T163000
DTEND;TZID=America/New_York:20231007T173000
DTSTAMP:20260424T222621
CREATED:20231005T091306Z
LAST-MODIFIED:20231005T091306Z
UID:9306-1696696200-1696699800@space4peace.org
SUMMARY:Keep Space for Peace in Asheville
DESCRIPTION:Asheville\, North Carolina \nMeet at Pack Square and walk through city with signs and flyers
URL:https://space4peace.org/event/keep-space-for-peace-in-asheville/
CATEGORIES:Actions
ATTACH;FMTTYPE=image/jpeg:https://space4peace.org/wp-content/uploads/2023/09/KSfPW_inage.jpg
END:VEVENT
END:VCALENDAR